BEGIN:VCALENDAR
PRODID:-//AT Content Types//AT Event//EN
VERSION:2.0
METHOD:PUBLISH
BEGIN:VEVENT
DTSTAMP:20260421T083228Z
CREATED:20170207T084510Z
UID:ATEvent-7e95fbfc62954f43991afa4deea19d4f
LAST-MODIFIED:20260313T142900Z
SUMMARY:Loto de l'école
DTSTART:20260321T140000Z
DTEND:20260321T190000Z
DESCRIPTION:Organisée par les parents d'élèves\, cette après-midi 
 festive est un moment convivial à vivre en famille. De très beaux lo
 ts sont à gagner ! Venez nombreux !
LOCATION:Réfectoire de Collège
CLASS:PUBLIC
END:VEVENT
END:VCALENDAR
