BEGIN:VCALENDAR
PRODID:-//AT Content Types//AT Event//EN
VERSION:1.0
BEGIN:VEVENT
DTSTART:20260316T070000Z
DTEND:20260328T170000Z
DCREATED:20171023T123749Z
UID:ATEvent-611a4acb25a24ab1b2b7f63d1bd0eafe
SEQUENCE:0
LAST-MODIFIED:20260308T140218Z
SUMMARY:Quinzaine "SPORT et SANTE"
DESCRIPTION:Une quinzaine sportive à l'initiative de chaque classe\, 
 ainsi que des rencontres avec des professionnels de santé pour grandi
 r en pleine forme !
PRIORITY:3
TRANSP:0
END:VEVENT
END:VCALENDAR
